0.2000000000
0.0000000000
0.0000000000
-0.2000000000
506164.1000000000
6294325.9000000004
