0.2000000000
0.0000000000
0.0000000000
-0.2000000000
513164.1000000000
6295325.9000000004
