0.2000000000
0.0000000000
0.0000000000
-0.2000000000
514164.1000000000
6296325.9000000004
