0.2000000000
0.0000000000
0.0000000000
-0.2000000000
504164.1000000000
6298325.9000000004
