0.2000000000
0.0000000000
0.0000000000
-0.2000000000
510164.1000000000
6300325.9000000004
