0.2000000000
0.0000000000
0.0000000000
-0.2000000000
501164.1000000000
6301325.9000000004
