0.2000000000
0.0000000000
0.0000000000
-0.2000000000
507164.1000000000
6302325.9000000004
