0.2000000000
0.0000000000
0.0000000000
-0.2000000000
511164.1000000000
6304325.9000000004
