0.2000000000
0.0000000000
0.0000000000
-0.2000000000
522164.1000000000
6309325.9000000004
