0.2000000000
0.0000000000
0.0000000000
-0.2000000000
523164.1000000000
6311325.9000000004
