0.2000000000
0.0000000000
0.0000000000
-0.2000000000
517164.1000000000
6313325.9000000004
