0.2000000000
0.0000000000
0.0000000000
-0.2000000000
518164.1000000000
6315325.9000000004
