0.2000000000
0.0000000000
0.0000000000
-0.2000000000
521164.1000000000
6316325.9000000004
