0.2000000000
0.0000000000
0.0000000000
-0.2000000000
525164.1000000000
6325325.9000000004
