0.2000000000
0.0000000000
0.0000000000
-0.2000000000
526164.1000000000
6328325.9000000004
