0.2000000000
0.0000000000
0.0000000000
-0.2000000000
529164.1000000000
6332325.9000000004
