0.2000000000
0.0000000000
0.0000000000
-0.2000000000
528164.1000000000
6334325.9000000004
