0.2000000000
0.0000000000
0.0000000000
-0.2000000000
533164.1000000000
6338325.9000000004
