0.2000000000
0.0000000000
0.0000000000
-0.2000000000
532164.1000000000
6339325.9000000004
