0.2000000000
0.0000000000
0.0000000000
-0.2000000000
534164.1000000000
6340325.9000000004
