0.2000000000
0.0000000000
0.0000000000
-0.2000000000
535164.1000000000
6342325.9000000004
