0.2000000000
0.0000000000
0.0000000000
-0.2000000000
536164.1000000000
6343325.9000000004
