0.2000000000
0.0000000000
0.0000000000
-0.2000000000
539164.1000000000
6345325.9000000004
