0.2000000000
0.0000000000
0.0000000000
-0.2000000000
541164.1000000000
6347325.9000000004
