0.2000000000
0.0000000000
0.0000000000
-0.2000000000
542164.1000000000
6349325.9000000004
