0.2000000000
0.0000000000
0.0000000000
-0.2000000000
548164.1000000000
6351325.9000000004
