0.2000000000
0.0000000000
0.0000000000
-0.2000000000
553164.1000000000
6352325.9000000004
