0.2000000000
0.0000000000
0.0000000000
-0.2000000000
550164.1000000000
6353325.9000000004
