0.2000000000
0.0000000000
0.0000000000
-0.2000000000
556164.1000000000
6355325.9000000004
