0.2000000000
0.0000000000
0.0000000000
-0.2000000000
549164.1000000000
6356325.9000000004
