0.2000000000
0.0000000000
0.0000000000
-0.2000000000
557164.1000000000
6357325.9000000004
