0.2000000000
0.0000000000
0.0000000000
-0.2000000000
558164.1000000000
6358325.9000000004
