0.2000000000
0.0000000000
0.0000000000
-0.2000000000
562164.1000000000
6365325.9000000004
