0.2000000000
0.0000000000
0.0000000000
-0.2000000000
563164.1000000000
6367325.9000000004
