0.2000000000
0.0000000000
0.0000000000
-0.2000000000
588164.1000000000
6368325.9000000004
