0.2000000000
0.0000000000
0.0000000000
-0.2000000000
585164.1000000000
6370325.9000000004
