0.2000000000
0.0000000000
0.0000000000
-0.2000000000
568164.1000000000
6372325.9000000004
