0.2000000000
0.0000000000
0.0000000000
-0.2000000000
569164.1000000000
6376325.9000000004
