0.2000000000
0.0000000000
0.0000000000
-0.2000000000
593164.1000000000
6377325.9000000004
