0.2000000000
0.0000000000
0.0000000000
-0.2000000000
570164.1000000000
6378325.9000000004
