0.2000000000
0.0000000000
0.0000000000
-0.2000000000
595164.1000000000
6379325.9000000004
