0.2000000000
0.0000000000
0.0000000000
-0.2000000000
586164.1000000000
6383325.9000000004
