0.2000000000
0.0000000000
0.0000000000
-0.2000000000
576164.1000000000
6391325.9000000004
