0.2000000000
0.0000000000
0.0000000000
-0.2000000000
577164.1000000000
6394325.9000000004
