0.2000000000
0.0000000000
0.0000000000
-0.2000000000
579164.1000000000
6414325.9000000004
