0.2000000000
0.0000000000
0.0000000000
-0.2000000000
580164.1000000000
6427325.9000000004
