0.2000000000
0.0000000000
0.0000000000
-0.2000000000
582164.1000000000
6438325.9000000004
