0.2000000000
0.0000000000
0.0000000000
-0.2000000000
584164.1000000000
6443325.9000000004
