0.2000000000
0.0000000000
0.0000000000
-0.2000000000
583164.1000000000
6445325.9000000004
