0.2000000000
0.0000000000
0.0000000000
-0.2000000000
325164.1000000000
6501325.9000000004
